BEGIN:VCALENDAR
VERSION:2.0
PRODID:-//wp-events-plugin.com//7.2.3.1//EN
TZID:Asia/Dubai
X-WR-TIMEZONE:Asia/Dubai
BEGIN:VEVENT
UID:6@playamericanfootball.ae
DTSTART;TZID=Asia/Dubai:20240121T130000
DTEND;TZID=Asia/Dubai:20240121T160000
DTSTAMP:20231231T201226Z
URL:https://playamericanfootball.ae/em-events/gameday-dubai/
SUMMARY:Gameday - Dubai
DESCRIPTION:Gameday - Dubai
CATEGORIES:Gameday
LOCATION:https://maps.app.goo.gl/vrqJ267UHN41KyFG6
END:VEVENT
BEGIN:VTIMEZONE
TZID:Asia/Dubai
X-LIC-LOCATION:Asia/Dubai
BEGIN:STANDARD
DTSTART:20230121T130000
TZOFFSETFROM:+0400
TZOFFSETTO:+0400
TZNAME:+04
END:STANDARD
END:VTIMEZONE
END:VCALENDAR